BEGIN:VCALENDAR
VERSION:2.0
PRODID:-//ChamberMaster//Event Calendar 2.0//EN
METHOD:PUBLISH
X-PUBLISHED-TTL:P3D
REFRESH-INTERVAL:P3D
CALSCALE:GREGORIAN
BEGIN:VEVENT
DTSTART:20200225T000000Z
DTEND:20200225T010000Z
X-MICROSOFT-CDO-ALLDAYEVENT:FALSE
SUMMARY:'Sexuality\, Disability\, and Aging'
DESCRIPTION:Denison University welcomes author and Professor of English at the University of Wisconsin-Milwaukee Jane Gallop\, presenting "Sexuality\, Disability\, and Aging." \nGallop examines how disability and aging work to undermine one's sense of self. She challenges common conceptions that equate the decline of the bodily potential and ability with a permanent and irretrievable loss\, arguing that such a loss can be both temporary and positively transformative. With "Sexuality\, Disability\, and Aging\," Gallop explores and celebrates how sexuality transforms and becomes more queer in the lives of the no longer young and the no longer able while at the same time demonstrating how disability can generate new forms of sexual fantasy and erotic possibility. \n\nShe is the author of a hundred essays and ten books\, including "Thinking Through the Body\, Feminist Accused of Sexual Harassment\," "Anecdotal Theory\," and most recently\, "Sexuality\, Disability\, and Aging." She writes and teaches about feminist theory\, queer theory\, literary and cultural theory\, pedagogy\, and crip theory.
X-ALT-DESC;FMTTYPE=text/html:<span style="background-color:transparent\; color:rgb(0\, 0\, 0)\; font-family:arial\; font-size:11pt">Denison University welcomes author and Professor of English at the University of Wisconsin-Milwaukee Jane Gallop\, presenting &quot\;Sexuality\, Disability\, and Aging.&quot\;&nbsp\;</span>\n<p><span style="background-color:transparent\; color:rgb(0\, 0\, 0)\; font-family:arial\; font-size:11pt">Gallop examines how disability and aging work to undermine one&#39\;s sense of self. She challenges common conceptions that equate the decline of the bodily potential and ability with a permanent and irretrievable loss\, arguing that such a loss can be both temporary and positively transformative. With &quot\;Sexuality\, Disability\, and Aging\,&quot\; Gallop explores and celebrates how sexuality transforms and becomes more queer in the lives of the no longer young and the no longer able while at the same time demonstrating how disability can generate new forms of sexual fantasy and erotic possibility.&nbsp\;</span></p>\n\n<p><span style="background-color:transparent\; color:rgb(0\, 0\, 0)\; font-family:arial\; font-size:11pt">She is the author of a hundred essays and ten books\, including &quot\;Thinking Through the Body\, Feminist Accused of Sexual Harassment\,&quot\; &quot\;Anecdotal Theory\,&quot\; and most recently\, &quot\;Sexuality\, Disability\, and Aging.&quot\; She writes and teaches about feminist theory\, queer theory\, literary and cultural theory\, pedagogy\, and crip theory.</span></p>\n\n<div>&nbsp\;</div>\n<br />\n&nbsp\;
LOCATION:Denison University Room 115 of the Burton D. Morgan Center 150 Ridge Road
UID:e.180.13980
SEQUENCE:3
DTSTAMP:20260422T154019Z
URL:https://business.granvilleoh.com/events/details/sexuality-disability-and-aging-13980
END:VEVENT

END:VCALENDAR
