BEGIN:VCALENDAR
VERSION:2.0
PRODID:-//ChamberMaster//Event Calendar 2.0//EN
METHOD:PUBLISH
X-PUBLISHED-TTL:P3D
REFRESH-INTERVAL:P3D
CALSCALE:GREGORIAN
BEGIN:VEVENT
DTSTART:20210122T230000Z
DTEND:20210123T010000Z
X-MICROSOFT-CDO-ALLDAYEVENT:FALSE
SUMMARY:Sher-Locked Escape Room for Teens
DESCRIPTION:Register to join in on a virtual escape room! You'll need your wits about you and a keen eye for detail. Work together to help solve this mystery that has baffled even the great Sherlock Holmes! For Teens in grades 7-12. An email with the zoom link will be sent to you about an hour before the program. Register at GranvilleLibrary.org/calendar/month
X-ALT-DESC;FMTTYPE=text/html:Register to join in on a virtual escape room! You&rsquo\;ll need your wits about you and a keen eye for detail. Work together to help solve this mystery that has baffled even the great Sherlock Holmes! For Teens in grades 7-12. An email with the zoom link will be sent to you about an hour before the program. Register at GranvilleLibrary.org/calendar/month
LOCATION:Granville Public Library
UID:e.180.14712
SEQUENCE:3
DTSTAMP:20260422T014649Z
URL:https://business.granvilleoh.com/events/details/sher-locked-escape-room-for-teens-14712
END:VEVENT

END:VCALENDAR
