BEGIN:VCALENDAR
VERSION:2.0
PRODID:-//ChamberMaster//Event Calendar 2.0//EN
METHOD:PUBLISH
X-PUBLISHED-TTL:P3D
REFRESH-INTERVAL:P3D
CALSCALE:GREGORIAN
BEGIN:VEVENT
DTSTART:20201103T033000Z
DTEND:20201103T041500Z
X-MICROSOFT-CDO-ALLDAYEVENT:FALSE
SUMMARY:Show & Tell on Zoom
DESCRIPTION:Each participant will get a chance to show and talk about an interesting object they have. For kids of all ages through Grade 6. Register with an email address to receive a Zoom login about an hour before the program.
X-ALT-DESC;FMTTYPE=text/html:Each participant will get a chance to show and talk about an interesting object they have. For kids of all ages through Grade 6. Register with an email address to receive a Zoom login about an hour before the program.
LOCATION:Granville Public Library via Zoom
UID:e.180.14659
SEQUENCE:3
DTSTAMP:20260422T045220Z
URL:https://business.granvilleoh.com/events/details/show-tell-on-zoom-14659
END:VEVENT

END:VCALENDAR
