BEGIN:VCALENDAR
VERSION:2.0
PRODID:-//ChamberMaster//Event Calendar 2.0//EN
METHOD:PUBLISH
X-PUBLISHED-TTL:P3D
REFRESH-INTERVAL:P3D
CALSCALE:GREGORIAN
BEGIN:VEVENT
DTSTART:20200602T170000Z
DTEND:20200602T180000Z
X-MICROSOFT-CDO-ALLDAYEVENT:FALSE
SUMMARY:Songs that Tell Stories and Books that Sing
DESCRIPTION:Joanie Calem will sing stories that the audience can act out\, with puppets and pantomime\, and picture books that can be sung\, with audience participation. All ages.
X-ALT-DESC;FMTTYPE=text/html:Joanie Calem will sing stories that the audience can act out\, with puppets and pantomime\, and picture books that can be sung\, with audience participation. All ages.
LOCATION:Granville Public Library via Zoom
UID:e.180.14501
SEQUENCE:3
DTSTAMP:20260422T102431Z
URL:https://business.granvilleoh.com/events/details/songs-that-tell-stories-and-books-that-sing-14501
END:VEVENT

END:VCALENDAR
