BEGIN:VCALENDAR
VERSION:2.0
PRODID:-//ChamberMaster//Event Calendar 2.0//EN
METHOD:PUBLISH
X-PUBLISHED-TTL:P3D
REFRESH-INTERVAL:P3D
CALSCALE:GREGORIAN
BEGIN:VEVENT
DTSTART:20200226T220000Z
DTEND:20200227T010000Z
X-MICROSOFT-CDO-ALLDAYEVENT:FALSE
SUMMARY:Special 'Cabin Fever' Business After Hours Event
DESCRIPTION:It's Cold Outside!  So join us for a special 'Cabin Fever' gathering complete with toe-tapping music to warm the senses.  We'll begin with collegial networking between 5:00 and 6:00 pm - then we'll open things up a bit with jazz guitar stylings by our local favorite Tom Carroll along with friend and fellow guitarist Stan Smith from 6:00 to 8:00 pm.  This will be an evening to remember...a great night to bring a guest or prospective member- or your significant other!  Come and get to know your fellow Chamber members better!
X-ALT-DESC;FMTTYPE=text/html:It&#39\;s Cold Outside!&nbsp\; So join us for a special &#39\;Cabin Fever&#39\; gathering complete with toe-tapping music to warm the senses.&nbsp\; We&#39\;ll begin with collegial networking between 5:00 and 6:00 pm - then we&#39\;ll open things up a bit with jazz guitar stylings by our local favorite Tom Carroll along with friend and fellow guitarist Stan Smith from 6:00 to 8:00 pm.&nbsp\; This will be an evening to remember...a great night to bring a guest or prospective member- or your significant other!&nbsp\; Come and get to know your fellow Chamber members better!
LOCATION:Moe's Original BBQ (Upstairs) 128 East Broadway Granville\, OH 43023
UID:e.180.14296
SEQUENCE:3
DTSTAMP:20260422T160213Z
URL:https://business.granvilleoh.com/events/details/special-cabin-fever-business-after-hours-event-14296
END:VEVENT

END:VCALENDAR
