BEGIN:VCALENDAR
VERSION:2.0
PRODID:-//ChamberMaster//Event Calendar 2.0//EN
METHOD:PUBLISH
X-PUBLISHED-TTL:P3D
REFRESH-INTERVAL:P3D
CALSCALE:GREGORIAN
BEGIN:VEVENT
DTSTART:20200323T173000Z
DTEND:20200323T190000Z
X-MICROSOFT-CDO-ALLDAYEVENT:FALSE
SUMMARY:Spoons Tournament
DESCRIPTION:Don't be caught without a spoon in this fast-paced card game. Grades 3 to 6
X-ALT-DESC;FMTTYPE=text/html:Don&#39\;t be caught without a spoon in this fast-paced card game. Grades 3 to 6
LOCATION:Granville Public Library
UID:e.180.14348
SEQUENCE:3
DTSTAMP:20260422T141628Z
URL:https://business.granvilleoh.com/events/details/spoons-tournament-14348
END:VEVENT

END:VCALENDAR
