BEGIN:VCALENDAR
VERSION:2.0
PRODID:-//ChamberMaster//Event Calendar 2.0//EN
METHOD:PUBLISH
X-PUBLISHED-TTL:P3D
REFRESH-INTERVAL:P3D
CALSCALE:GREGORIAN
BEGIN:VEVENT
DTSTART:20200203T220000Z
DTEND:20200204T000000Z
X-MICROSOFT-CDO-ALLDAYEVENT:FALSE
SUMMARY:Spring 2020 Sustainability Documentary & Dinner Film Series
DESCRIPTION:The Denison Sustainability Fellows and the Office of Sustainability presents the Spring 2020 Sustainability Documentary & Dinner Film Series. Participants are invited to dine beginning at 5 p.m.\, the film screening begins at 5:30 p.m. in the Presidents' Dining Room of Huffman Hall (450 Chapel Drive). The first 30 people to arrive receive a free dinner. The film series is open to Denison students\, staff and faculty and members of the community who are interested in environmental and social issues.\nDates for Documentary & Dinner Film Series as follows:\n\n\n	\n	Monday\, Feb. 3\, Theme: The Future of Humans. Film "Ten Billion"\n	\n	\n	Monday\, March 2\, Theme: Complexity of Access to Fresh Water. Film "Water &  Power: A California Heist"\n	\n	\n	Monday\, April 6\, Theme: Human Impacts. Film "Lost World and Forget Shorter Showers" A special double-feature of two award-winning short documentaries.\n	\n	\n	 Monday\, May 4\, Theme: Sustainable Agriculture. Film "From Seed to Seed"\n\n	\n\n	These screenings are proudly sponsored by the Denison Sustainability Fellows\, the Office of Sustainability\, and Denison Dining.
X-ALT-DESC;FMTTYPE=text/html:<span style="background-color:transparent\; color:rgb(0\, 0\, 0)\; font-family:arial\; font-size:11pt">The Denison Sustainability Fellows and the Office of Sustainability presents the Spring 2020 Sustainability Documentary &amp\; Dinner Film Series. Participants are invited to dine beginning at 5 p.m.\, the film screening begins at 5:30 p.m. in the Presidents&rsquo\; Dining Room of Huffman Hall (450 Chapel Drive). The first 30 people to arrive receive a free dinner. The film series is open to Denison students\, staff and faculty and members of the community who are interested in environmental and social issues.</span>\n<p><span style="color:rgb(0\, 0\, 0)\; font-family:arial\; font-size:11pt">Dates for Documentary &amp\; Dinner Film Series as follows:</span></p>\n\n<ul>\n	<li>\n	<p><span style="font-size:11pt">Monday\, Feb. 3\, Theme: The Future of Humans. Film &quot\;Ten Billion&quot\;</span></p>\n	</li>\n	<li>\n	<p><span style="background-color:transparent\; font-size:11pt">Monday\, March 2\, Theme: Complexity of Access to Fresh Water. Film &quot\;Water &amp\;&nbsp\; Power: A California Heist&quot\;</span></p>\n	</li>\n	<li>\n	<p><span style="background-color:transparent\; font-size:11pt">Monday\, April 6\, Theme: Human Impacts. Film &quot\;Lost World and Forget Shorter Showers&quot\; A special double-feature of two award-winning short documentaries.</span></p>\n	</li>\n	<li>\n	<p><span style="background-color:transparent\; color:rgb(34\, 34\, 34)\; font-family:times new roman\; font-size:7pt">&nbsp\;</span><span style="background-color:transparent\; font-size:11pt">Monday\, May 4\, Theme: Sustainable Agriculture. Film &quot\;From Seed to Seed&quot\;<br />\n	<br />\n	<span style="background-color:transparent\; color:rgb(0\, 0\, 0)\; font-family:arial\; font-size:11pt">These screenings are proudly sponsored by the Denison Sustainability Fellows\, the Office of Sustainability\, and Denison Dining.</span></span></p>\n	</li>\n</ul>\n\n<p><span style="background-color:transparent\; color:rgb(34\, 34\, 34)\; font-family:times new roman\; font-size:12pt">&nbsp\;</span></p>\n\n<div>&nbsp\;</div>\n
LOCATION:Denison University Presidents' Dining Room of Huffman Hall 450 Chapel Drive
UID:e.180.14050
SEQUENCE:3
DTSTAMP:20260422T154201Z
URL:https://business.granvilleoh.com/events/details/spring-2020-sustainability-documentary-dinner-film-series-14050
END:VEVENT

END:VCALENDAR
