BEGIN:VCALENDAR
VERSION:2.0
PRODID:-//ChamberMaster//Event Calendar 2.0//EN
METHOD:PUBLISH
X-PUBLISHED-TTL:P3D
REFRESH-INTERVAL:P3D
CALSCALE:GREGORIAN
BEGIN:VEVENT
DTSTART:20200418T140000Z
DTEND:20200418T160000Z
X-MICROSOFT-CDO-ALLDAYEVENT:FALSE
SUMMARY:Spring Cleaning Craft Swap
DESCRIPTION:Time to clean out your craft supplies? Have crafts your kids have outgrown? Want to try a new craft but don't want to spend a lot of money? Then come to our craft swap! Drop off your unused or leftover craft supplies that are in good condition April 10-17 to receive an Early Bird Entry ticket for the event. No paint and please only bring items that you would be willing to take home. Everyone is welcome from 11:00 am-12:00pm to select and take home items. Early Bird Entry 10-11:00 AM Public Entry 11AM-12:00 PM
X-ALT-DESC;FMTTYPE=text/html:Time to clean out your craft supplies? Have crafts your kids have outgrown? Want to try a new craft but don&#39\;t want to spend a lot of money? Then come to our craft swap! Drop off your unused or leftover craft supplies that are in good condition April 10-17 to receive an Early Bird Entry ticket for the event. No paint and please only bring items that you would be willing to take home. Everyone is welcome from 11:00 am-12:00pm to select and take home items. Early Bird Entry 10-11:00 AM Public Entry 11AM-12:00 PM
LOCATION:Granville Public Library
UID:e.180.14409
SEQUENCE:3
DTSTAMP:20260422T125706Z
URL:https://business.granvilleoh.com/events/details/spring-cleaning-craft-swap-14409
END:VEVENT

END:VCALENDAR
