BEGIN:VCALENDAR
VERSION:2.0
PRODID:-//ChamberMaster//Event Calendar 2.0//EN
METHOD:PUBLISH
X-PUBLISHED-TTL:P3D
REFRESH-INTERVAL:P3D
CALSCALE:GREGORIAN
BEGIN:VEVENT
DTSTART:20200326T210000Z
DTEND:20200326T230000Z
X-MICROSOFT-CDO-ALLDAYEVENT:FALSE
SUMMARY:STEAM Club
DESCRIPTION:BattleBots! Create a bristlebot and compete in a March Madness-style battle to see whose bot is victorious. For grades 4-6. Register at granvillelibrary.org/calendar/month
X-ALT-DESC;FMTTYPE=text/html:BattleBots! Create a bristlebot and compete in a March Madness-style battle to see whose bot is victorious. For grades 4-6. Register at granvillelibrary.org/calendar/month
LOCATION:Granville Public Library
UID:e.180.14386
SEQUENCE:3
DTSTAMP:20260422T141738Z
URL:https://business.granvilleoh.com/events/details/steam-club-14386
END:VEVENT

END:VCALENDAR
