BEGIN:VCALENDAR
VERSION:2.0
PRODID:-//ChamberMaster//Event Calendar 2.0//EN
METHOD:PUBLISH
X-PUBLISHED-TTL:P3D
REFRESH-INTERVAL:P3D
CALSCALE:GREGORIAN
BEGIN:VEVENT
DTSTART:20200214T210000Z
DTEND:20200214T230000Z
X-MICROSOFT-CDO-ALLDAYEVENT:FALSE
SUMMARY:STEAM Club for Tweens
DESCRIPTION:Kids in grades 4-6\, register to make a light-up Valentine's Card. Register at granvillelibrary.org/calendar.
X-ALT-DESC;FMTTYPE=text/html:Kids in grades 4-6\, register to make a light-up Valentine&#39\;s Card. Register at granvillelibrary.org/calendar.
LOCATION:Granville Public Library
UID:e.180.14072
SEQUENCE:3
DTSTAMP:20260422T172354Z
URL:https://business.granvilleoh.com/events/details/steam-club-for-tweens-02-14-2020-14072
END:VEVENT

END:VCALENDAR
