BEGIN:VCALENDAR
VERSION:2.0
PRODID:-//ChamberMaster//Event Calendar 2.0//EN
METHOD:PUBLISH
X-PUBLISHED-TTL:P3D
REFRESH-INTERVAL:P3D
CALSCALE:GREGORIAN
BEGIN:VEVENT
DTSTART:20200213T210000Z
DTEND:20200213T220000Z
X-MICROSOFT-CDO-ALLDAYEVENT:FALSE
SUMMARY:Storytellers Club
DESCRIPTION:Hang out and tell stories. Story prompts\, puppets\, and snacks supplied. Grades 4-6
X-ALT-DESC;FMTTYPE=text/html:Hang out and tell stories. Story prompts\, puppets\, and snacks supplied. Grades 4-6
LOCATION:Granville Public Library
UID:e.180.14041
SEQUENCE:3
DTSTAMP:20260422T155106Z
URL:https://business.granvilleoh.com/events/details/storytellers-club-02-13-2020-14041
END:VEVENT

END:VCALENDAR
