BEGIN:VCALENDAR
VERSION:2.0
PRODID:-//ChamberMaster//Event Calendar 2.0//EN
METHOD:PUBLISH
X-PUBLISHED-TTL:P3D
REFRESH-INTERVAL:P3D
CALSCALE:GREGORIAN
BEGIN:VEVENT
DTSTART:20200312T200000Z
DTEND:20200312T210000Z
X-MICROSOFT-CDO-ALLDAYEVENT:FALSE
SUMMARY:Storytellers Club
DESCRIPTION:Hang out and tell stories. Story prompts\, puppets\, and snacks supplied. Grades 4-6
X-ALT-DESC;FMTTYPE=text/html:Hang out and tell stories. Story prompts\, puppets\, and snacks supplied. Grades 4-6
LOCATION:Granville Public Library
UID:e.180.14279
SEQUENCE:3
DTSTAMP:20260422T142733Z
URL:https://business.granvilleoh.com/events/details/storytellers-club-03-12-2020-14279
END:VEVENT

END:VCALENDAR
