BEGIN:VCALENDAR
VERSION:2.0
PRODID:-//ChamberMaster//Event Calendar 2.0//EN
METHOD:PUBLISH
X-PUBLISHED-TTL:P3D
REFRESH-INTERVAL:P3D
CALSCALE:GREGORIAN
BEGIN:VEVENT
DTSTART:20200613T140000Z
DTEND:20200613T143000Z
X-MICROSOFT-CDO-ALLDAYEVENT:FALSE
SUMMARY:Stuffed Animal Storytime
DESCRIPTION:Bring a favorite stuffed animal to this interactive storytime. Zoom Register at GranvilleLibrary.org/Calendar/Month to receive login the day of the program 18 months to 5 years
X-ALT-DESC;FMTTYPE=text/html:Bring a favorite stuffed animal to this interactive storytime. Zoom&mdash\;Register at GranvilleLibrary.org/Calendar/Month to receive login the day of the program 18 months to 5 years
LOCATION:Granville Public Library via Zoom
UID:e.180.14521
SEQUENCE:3
DTSTAMP:20260422T102211Z
URL:https://business.granvilleoh.com/events/details/stuffed-animal-storytime-14521
END:VEVENT

END:VCALENDAR
