BEGIN:VCALENDAR
VERSION:2.0
PRODID:-//ChamberMaster//Event Calendar 2.0//EN
METHOD:PUBLISH
X-PUBLISHED-TTL:P3D
REFRESH-INTERVAL:P3D
CALSCALE:GREGORIAN
BEGIN:VEVENT
DTSTART:20200918T203000Z
DTEND:20200918T220000Z
X-MICROSOFT-CDO-ALLDAYEVENT:FALSE
SUMMARY:Susan Wolf: 'Criticizing Blame'
DESCRIPTION:Denison University's Department of Philosophy and the Titus-Hepp Lecture Series welcome Phi Beta Kappa Visiting Scholar Susan Wolf presenting "Criticizing Blame."\n\nWolf is the Edna J. Koury Distinguished Professor of Philosophy at the University of North Carolina at Chapel Hill\, where she has taught since 2002. Wolf's interests range widely over moral psychology\, value theory\, and normative ethics.\n\nRegister to receive the Zoom link.
X-ALT-DESC;FMTTYPE=text/html:<p>Denison University&rsquo\;s Department of Philosophy and the Titus-Hepp Lecture Series welcome&nbsp\;Phi Beta Kappa Visiting Scholar Susan Wolf presenting &ldquo\;Criticizing Blame.&rdquo\;</p>\n\n<p>Wolf is the Edna J. Koury Distinguished Professor of Philosophy at the University of North Carolina at Chapel Hill\, where she has taught since 2002. Wolf&rsquo\;s interests range widely over moral psychology\, value theory\, and normative ethics.</p>\n\n<p>Register to receive the Zoom link.</p>\n
LOCATION:Virtual
UID:e.180.14619
SEQUENCE:3
DTSTAMP:20260422T055354Z
URL:https://business.granvilleoh.com/events/details/susan-wolf-criticizing-blame-14619
END:VEVENT

END:VCALENDAR
