BEGIN:VCALENDAR
VERSION:2.0
PRODID:-//ChamberMaster//Event Calendar 2.0//EN
METHOD:PUBLISH
X-PUBLISHED-TTL:P3D
REFRESH-INTERVAL:P3D
CALSCALE:GREGORIAN
BEGIN:VEVENT
DTSTART:20200917T233000Z
DTEND:20200918T010000Z
X-MICROSOFT-CDO-ALLDAYEVENT:FALSE
SUMMARY:Susan Wolf: 'Meaningfulness: A Third Dimension of a Good Life'
DESCRIPTION:Denison University's Department of Philosophy and the Titus-Hepp Lecture Series welcome Phi Beta Kappa Visiting Scholar Susan Wolf presenting "Meaningfulness: A Third Dimension of a Good Life."\n\nIn thinking about what we want for ourselves and for those about whom we care\, we tend to think in terms of the categories of self-interest and morality. We want\, in other words\, to be both happy and good. These categories\, however\, leave something out: an interest that our lives be meaningful. This lecture will propose an analysis of meaningfulness in terms of subjective engagement with objective values. Understanding meaningfulness this way brings together the attractive elements of other more popular ways of thinking about the concept and makes intelligible why we should care deeply about having meaning in our lives.\n\nWolf is the Edna J. Koury Distinguished Professor of Philosophy at the University of North Carolina at Chapel Hill\, where she has taught since 2002. Wolf's interests range widely over moral psychology\, value theory\, and normative ethics.\n\nRegister to receive the Zoom link.
X-ALT-DESC;FMTTYPE=text/html:<p>Denison University&rsquo\;s Department of Philosophy and the Titus-Hepp Lecture Series welcome&nbsp\;Phi Beta Kappa Visiting Scholar Susan Wolf presenting &ldquo\;Meaningfulness: A Third Dimension of a Good Life.&rdquo\;</p>\n\n<p>In thinking about what we want for ourselves and for those about whom we care\, we tend to think in terms of the categories of self-interest and morality. We want\, in other words\, to be both happy and good. These categories\, however\, leave something out: an interest that our lives be meaningful. This lecture will propose an analysis of meaningfulness in terms of subjective engagement with objective values. Understanding meaningfulness this way brings together the attractive elements of other more popular ways of thinking about the concept and makes intelligible why we should care deeply about having meaning in our lives.</p>\n\n<p>Wolf is the Edna J. Koury Distinguished Professor of Philosophy at the University of North Carolina at Chapel Hill\, where she has taught since 2002. Wolf&rsquo\;s interests range widely over moral psychology\, value theory\, and normative ethics.</p>\n\n<p>Register to receive the Zoom link.</p>\n
LOCATION:Virtual
UID:e.180.14618
SEQUENCE:3
DTSTAMP:20260422T060124Z
URL:https://business.granvilleoh.com/events/details/susan-wolf-meaningfulness-a-third-dimension-of-a-good-life-14618
END:VEVENT

END:VCALENDAR
