BEGIN:VCALENDAR
VERSION:2.0
PRODID:-//ChamberMaster//Event Calendar 2.0//EN
METHOD:PUBLISH
X-PUBLISHED-TTL:P3D
REFRESH-INTERVAL:P3D
CALSCALE:GREGORIAN
BEGIN:VEVENT
DTSTART:20200209T200000Z
DTEND:20200209T210000Z
X-MICROSOFT-CDO-ALLDAYEVENT:FALSE
SUMMARY:Suzuki Program recital
DESCRIPTION:The Department of Music presents a Suzuki Program recital.
X-ALT-DESC;FMTTYPE=text/html:<span style="color:rgb(0\, 0\, 0)\; font-family:arial\; font-size:11pt">The Department of Music presents a Suzuki Program recital.</span>\n<div>&nbsp\;</div>\n
LOCATION:Denison University Burke Recital Hall of the Michael D. Eisner Center for the Performing Arts 240 West Broadway
UID:e.180.14254
SEQUENCE:3
DTSTAMP:20260422T154019Z
URL:https://business.granvilleoh.com/events/details/suzuki-program-recital-02-09-2020-14254
END:VEVENT

END:VCALENDAR
