BEGIN:VCALENDAR
VERSION:2.0
PRODID:-//ChamberMaster//Event Calendar 2.0//EN
METHOD:PUBLISH
X-PUBLISHED-TTL:P3D
REFRESH-INTERVAL:P3D
CALSCALE:GREGORIAN
BEGIN:VEVENT
DTSTART:20210203T170000Z
DTEND:20210203T180000Z
X-MICROSOFT-CDO-ALLDAYEVENT:FALSE
SUMMARY:Take & Make: Wooden-Bead Snowflake
DESCRIPTION:Reserve this take and make-on-your-own beaded snowflake craft kit. One kit per person for Granville Library cardholders. Supplies and instructions included. You may need a wire cutter and a pair of craft pliers. Pick-up your kit any time beginning at noon on Feb. 3rd through Feb. 17th. This craft is designed for teens and adults. Register at GranvilleLibrary.org/calendar/month
X-ALT-DESC;FMTTYPE=text/html:Reserve this take and make-on-your-own beaded snowflake craft kit. One kit per person for Granville Library cardholders. Supplies and instructions included. You may need a wire cutter and a pair of craft pliers. Pick-up your kit any time beginning at noon on Feb. 3rd through Feb. 17th. This craft is designed for teens and adults. Register at GranvilleLibrary.org/calendar/month
LOCATION:Granville Public Library
UID:e.180.14716
SEQUENCE:3
DTSTAMP:20260421T232838Z
URL:https://business.granvilleoh.com/events/details/take-make-wooden-bead-snowflake-14716
END:VEVENT

END:VCALENDAR
