BEGIN:VCALENDAR
VERSION:2.0
PRODID:-//ChamberMaster//Event Calendar 2.0//EN
METHOD:PUBLISH
X-PUBLISHED-TTL:P3D
REFRESH-INTERVAL:P3D
CALSCALE:GREGORIAN
BEGIN:VEVENT
DTSTART:20200407T210000Z
DTEND:20200407T230000Z
X-MICROSOFT-CDO-ALLDAYEVENT:FALSE
SUMMARY:Technology Class: Cell Phone Photography
DESCRIPTION:Learn how to take photos on your phone\, use popular apps like Instagram\, and how to get photos off your phones and into your hands. Register at granvillelibrary.org/calendar/month
X-ALT-DESC;FMTTYPE=text/html:Learn how to take photos on your phone\, use popular apps like Instagram\, and how to get photos off your phones and into your hands. Register at granvillelibrary.org/calendar/month
LOCATION:Granville Public Library
UID:e.180.14392
SEQUENCE:3
DTSTAMP:20260422T125624Z
URL:https://business.granvilleoh.com/events/details/technology-class-cell-phone-photography-14392
END:VEVENT

END:VCALENDAR
