BEGIN:VCALENDAR
VERSION:2.0
PRODID:-//ChamberMaster//Event Calendar 2.0//EN
METHOD:PUBLISH
X-PUBLISHED-TTL:P3D
REFRESH-INTERVAL:P3D
CALSCALE:GREGORIAN
BEGIN:VEVENT
DTSTART:20200618T180000Z
DTEND:20200618T220000Z
X-MICROSOFT-CDO-ALLDAYEVENT:FALSE
SUMMARY:Technology One on Ones
DESCRIPTION:Register for an hour-long session to work through tech problems you are experiencing - over the phone or via Zoom video. Please indicate your preference when registering. Register at GranvilleLibrary.org/calendar/month
X-ALT-DESC;FMTTYPE=text/html:Register for an hour-long session to work through tech problems you are experiencing - over the phone or via Zoom video. Please indicate your preference when registering. Register at GranvilleLibrary.org/calendar/month
LOCATION:Granville Public Library via Zoom
UID:e.180.14531
SEQUENCE:3
DTSTAMP:20260422T114016Z
URL:https://business.granvilleoh.com/events/details/technology-one-on-ones-06-18-2020-14531
END:VEVENT

END:VCALENDAR
