BEGIN:VCALENDAR
VERSION:2.0
PRODID:-//ChamberMaster//Event Calendar 2.0//EN
METHOD:PUBLISH
X-PUBLISHED-TTL:P3D
REFRESH-INTERVAL:P3D
CALSCALE:GREGORIAN
BEGIN:VEVENT
DTSTART:20211014T210000Z
DTEND:20211014T230000Z
X-MICROSOFT-CDO-ALLDAYEVENT:FALSE
SUMMARY:Teen 3D Print: Cura Slicers & Operating a 3D Printer
DESCRIPTION:This is a next-step style class for those who have already had experience with Tinkercad. We will take a model we created in Tinkercad through the Cura Slicer program to prep it for the 3D printer. Taking this class will allow you to reserve time to 3D print on your own using our Dremel 3D printers. Registration is required\, limit to 6. Grades 7-12. Register at GranvilleLibrary.org/calendar/month
X-ALT-DESC;FMTTYPE=text/html:This is a next-step style class for those who have already had experience with Tinkercad. We will take a model we created in Tinkercad through the Cura Slicer program to prep it for the 3D printer. Taking this class will allow you to reserve time to 3D print on your own using our Dremel 3D printers. Registration is required\, limit to 6. Grades 7-12. Register at GranvilleLibrary.org/calendar/month
LOCATION:Granville Public Library
UID:e.180.16081
SEQUENCE:3
DTSTAMP:20260421T140509Z
URL:https://business.granvilleoh.com/events/details/teen-3d-print-cura-slicers-operating-a-3d-printer-16081
END:VEVENT

END:VCALENDAR
