BEGIN:VCALENDAR
VERSION:2.0
PRODID:-//ChamberMaster//Event Calendar 2.0//EN
METHOD:PUBLISH
X-PUBLISHED-TTL:P3D
REFRESH-INTERVAL:P3D
CALSCALE:GREGORIAN
BEGIN:VEVENT
DTSTART:20210212T210000Z
DTEND:20210212T230000Z
X-MICROSOFT-CDO-ALLDAYEVENT:FALSE
SUMMARY:Teen 3D Print: Lock Box
DESCRIPTION:Try out Tinkercad and design a locking box! This class is best taken on a home computer as we will be using Tinkercad to create this design and then the library will print them for you to pick up later. Please register for this class - Limit 6 You will be emailed a Zoom link about an hour before the start of the program. Register at GranvilleLibrary.org/calendar/month.
X-ALT-DESC;FMTTYPE=text/html:Try out Tinkercad and design a locking box! This class is best taken on a home computer as we will be using Tinkercad to create this design and then the library will print them for you to pick up later. Please register for this class - Limit 6 You will be emailed a Zoom link about an hour before the start of the program. Register at GranvilleLibrary.org/calendar/month.
LOCATION:Granville Public Library
UID:e.180.14729
SEQUENCE:3
DTSTAMP:20260421T233021Z
URL:https://business.granvilleoh.com/events/details/teen-3d-print-lock-box-14729
END:VEVENT

END:VCALENDAR
