BEGIN:VCALENDAR
VERSION:2.0
PRODID:-//ChamberMaster//Event Calendar 2.0//EN
METHOD:PUBLISH
X-PUBLISHED-TTL:P3D
REFRESH-INTERVAL:P3D
CALSCALE:GREGORIAN
BEGIN:VEVENT
DTSTART:20211114T180000Z
DTEND:20211114T200000Z
X-MICROSOFT-CDO-ALLDAYEVENT:FALSE
SUMMARY:Teen & Adult Lego Build
DESCRIPTION:Teens\, adults\, and TAG team members- hang out and build Legos for our Candlelight Walking Tour displays! Register at GranvilleLibrary.org/calendar/month
X-ALT-DESC;FMTTYPE=text/html:Teens\, adults\, and TAG team members- hang out and build Legos for our Candlelight Walking Tour displays! Register at GranvilleLibrary.org/calendar/month
LOCATION:Granville Public Library
UID:e.180.16143
SEQUENCE:3
DTSTAMP:20260421T113755Z
URL:https://business.granvilleoh.com/events/details/teen-adult-lego-build-16143
END:VEVENT

END:VCALENDAR
