BEGIN:VCALENDAR
VERSION:2.0
PRODID:-//ChamberMaster//Event Calendar 2.0//EN
METHOD:PUBLISH
X-PUBLISHED-TTL:P3D
REFRESH-INTERVAL:P3D
CALSCALE:GREGORIAN
BEGIN:VEVENT
DTSTART:20200626T223000Z
DTEND:20200626T233000Z
X-MICROSOFT-CDO-ALLDAYEVENT:FALSE
SUMMARY:Teen Alphabet Scavenger Hunt
DESCRIPTION:A roll of the alphabet dice will decide what item you need to find. Race to be the first to find the item beginning with the chosen letter. The winner will receive a box of A-to-Z treats! Grades 7-12
X-ALT-DESC;FMTTYPE=text/html:A roll of the alphabet dice will decide what item you need to find. Race to be the first to find the item beginning with the chosen letter. The winner will receive a box of A-to-Z treats! Grades 7-12
LOCATION:Granville Public Library
UID:e.180.14544
SEQUENCE:3
DTSTAMP:20260422T102431Z
URL:https://business.granvilleoh.com/events/details/teen-alphabet-scavenger-hunt-14544
END:VEVENT

END:VCALENDAR
