BEGIN:VCALENDAR
VERSION:2.0
PRODID:-//ChamberMaster//Event Calendar 2.0//EN
METHOD:PUBLISH
X-PUBLISHED-TTL:P3D
REFRESH-INTERVAL:P3D
CALSCALE:GREGORIAN
BEGIN:VEVENT
DTSTART:20210722T170000Z
DTEND:20210722T190000Z
X-MICROSOFT-CDO-ALLDAYEVENT:FALSE
SUMMARY:Teen Pretzel Tails Bake-a-Long on Zoom
DESCRIPTION:Join us to cook cheese-filled soft pretzels from scratch! We will supply most of the ingredients needed. Register at GranvilleLibrary.org/calendar/month to reserve your supply kit and to receive the Zoom link. For grades 7-12\,
X-ALT-DESC;FMTTYPE=text/html:Join us to cook cheese-filled soft pretzels from scratch! We will supply most of the ingredients needed. Register at GranvilleLibrary.org/calendar/month to reserve your supply kit and to receive the Zoom link. For grades 7-12\,
LOCATION:Granville Public Library via Zoom
UID:e.180.16026
SEQUENCE:3
DTSTAMP:20260421T163439Z
URL:https://business.granvilleoh.com/events/details/teen-pretzel-tails-bake-a-long-on-zoom-16026
END:VEVENT

END:VCALENDAR
