BEGIN:VCALENDAR
VERSION:2.0
PRODID:-//ChamberMaster//Event Calendar 2.0//EN
METHOD:PUBLISH
X-PUBLISHED-TTL:P3D
REFRESH-INTERVAL:P3D
CALSCALE:GREGORIAN
BEGIN:VEVENT
DTSTART:20210325T230000Z
DTEND:20210326T000000Z
X-MICROSOFT-CDO-ALLDAYEVENT:FALSE
SUMMARY:Teen Rainbow Wall Hanging via Zoom
DESCRIPTION:Register to make a rainbow wall hanging. We'll supply everything you need but the scissors. You will be emailed a notification when your kit is available for pickup. For Grades 7-12. You will be sent a Zoom link about an hour before the start of the program. Register at GranvilleLibrary.org/calendar/month
X-ALT-DESC;FMTTYPE=text/html:Register to make a rainbow wall hanging. We&#39\;ll supply everything you need but the scissors. You will be emailed a notification when your kit is available for pickup. For Grades 7-12. You will be sent a Zoom link about an hour before the start of the program. Register at GranvilleLibrary.org/calendar/month
LOCATION:Granville Public Library via Zoom
UID:e.180.14762
SEQUENCE:3
DTSTAMP:20260421T221022Z
URL:https://business.granvilleoh.com/events/details/teen-rainbow-wall-hanging-via-zoom-14762
END:VEVENT

END:VCALENDAR
