BEGIN:VCALENDAR
VERSION:2.0
PRODID:-//ChamberMaster//Event Calendar 2.0//EN
METHOD:PUBLISH
X-PUBLISHED-TTL:P3D
REFRESH-INTERVAL:P3D
CALSCALE:GREGORIAN
BEGIN:VEVENT
DTSTART:20200618T150000Z
DTEND:20200618T160000Z
X-MICROSOFT-CDO-ALLDAYEVENT:FALSE
SUMMARY:Teen Summer Book Club
DESCRIPTION:Rising 7th through 12 grade students join Mrs. Bice\, Mrs. Tallentire and Emily Shellhouse for book club this summer! For June\, we're reading "Pizza\, Love and Other Stuff That Made Me Famous" by Kathryn Williams. Register for the program to reserve a copy of the book.
X-ALT-DESC;FMTTYPE=text/html:Rising 7th through 12 grade students join Mrs. Bice\, Mrs. Tallentire and Emily Shellhouse for book club this summer! For June\, we&#39\;re reading &quot\;Pizza\, Love and Other Stuff That Made Me Famous&quot\; by Kathryn Williams. Register for the program to reserve a copy of the book.
LOCATION:Granville Public Library via Zoom
UID:e.180.14530
SEQUENCE:3
DTSTAMP:20260422T102506Z
URL:https://business.granvilleoh.com/events/details/teen-summer-book-club-06-18-2020-14530
END:VEVENT

END:VCALENDAR
