BEGIN:VCALENDAR
VERSION:2.0
PRODID:-//ChamberMaster//Event Calendar 2.0//EN
METHOD:PUBLISH
X-PUBLISHED-TTL:P3D
REFRESH-INTERVAL:P3D
CALSCALE:GREGORIAN
BEGIN:VEVENT
DTSTART:20211116T210000Z
DTEND:20211116T230000Z
X-MICROSOFT-CDO-ALLDAYEVENT:FALSE
SUMMARY:Teen Tech: Circuit Stars
DESCRIPTION:Teens can register to create beautiful origami stars and illuminate them with LED lights. For grades 7-12. Register at GranvilleLibrary.org/calendar/month
X-ALT-DESC;FMTTYPE=text/html:Teens can register to create beautiful origami stars and illuminate them with LED lights. For grades 7-12. Register at GranvilleLibrary.org/calendar/month
LOCATION:Granville Public Library
UID:e.180.16145
SEQUENCE:3
DTSTAMP:20260421T111809Z
URL:https://business.granvilleoh.com/events/details/teen-tech-circuit-stars-16145
END:VEVENT

END:VCALENDAR
