BEGIN:VCALENDAR
VERSION:2.0
PRODID:-//ChamberMaster//Event Calendar 2.0//EN
METHOD:PUBLISH
X-PUBLISHED-TTL:P3D
REFRESH-INTERVAL:P3D
CALSCALE:GREGORIAN
BEGIN:VEVENT
DTSTART:20200610T230000Z
DTEND:20200611T000000Z
X-MICROSOFT-CDO-ALLDAYEVENT:FALSE
SUMMARY:Teen Trivia Challenge
DESCRIPTION:Register for one of the first three nights of trivia using Kahoot and Zoom. Winners from Rounds 1-3 will compete in the final round on Friday\, June 12. For rising 7-12 graders. Register at GranvilleLibrary.org/calendar/month
X-ALT-DESC;FMTTYPE=text/html:Register for one of the first three nights of trivia using Kahoot and Zoom. Winners from Rounds 1-3 will compete in the final round on Friday\, June 12. For rising 7-12 graders. Register at GranvilleLibrary.org/calendar/month
LOCATION:Granville Public Library
UID:e.180.14517
SEQUENCE:3
DTSTAMP:20260422T114642Z
URL:https://business.granvilleoh.com/events/details/teen-trivia-challenge-06-10-2020-14517
END:VEVENT

END:VCALENDAR
