BEGIN:VCALENDAR
VERSION:2.0
PRODID:-//ChamberMaster//Event Calendar 2.0//EN
METHOD:PUBLISH
X-PUBLISHED-TTL:P3D
REFRESH-INTERVAL:P3D
CALSCALE:GREGORIAN
BEGIN:VEVENT
DTSTART:20200612T230000Z
DTEND:20200613T000000Z
X-MICROSOFT-CDO-ALLDAYEVENT:FALSE
SUMMARY:Teen Trivia Challenge
DESCRIPTION:Winners from the first three nights join us for the FINALS! For rising 7-12 graders.
X-ALT-DESC;FMTTYPE=text/html:Winners from the first three nights join us for the FINALS! For rising 7-12 graders.
LOCATION:Granville Public Library via Zoom
UID:e.180.14520
SEQUENCE:3
DTSTAMP:20260422T114234Z
URL:https://business.granvilleoh.com/events/details/teen-trivia-challenge-06-12-2020-14520
END:VEVENT

END:VCALENDAR
