BEGIN:VCALENDAR
VERSION:2.0
PRODID:-//ChamberMaster//Event Calendar 2.0//EN
METHOD:PUBLISH
X-PUBLISHED-TTL:P3D
REFRESH-INTERVAL:P3D
CALSCALE:GREGORIAN
BEGIN:VEVENT
DTSTART:20210622T190000Z
DTEND:20210622T210000Z
X-MICROSOFT-CDO-ALLDAYEVENT:FALSE
SUMMARY:Teens: LED Origami
DESCRIPTION:Let's step outside and create some fun folded illuminated work! Join us outside the library and create folded works of art with LED lights. Registration is required. Limit 6 For rising 7-12 grade. Register at GranvilleLibrary.org/calendar/month
X-ALT-DESC;FMTTYPE=text/html:Let&#39\;s step outside and create some fun folded illuminated work! Join us outside the library and create folded works of art with LED lights. Registration is required. Limit 6 For rising 7-12 grade. Register at GranvilleLibrary.org/calendar/month
LOCATION:Granville Public Library
UID:e.180.14814
SEQUENCE:3
DTSTAMP:20260421T175129Z
URL:https://business.granvilleoh.com/events/details/teens-led-origami-14814
END:VEVENT

END:VCALENDAR
