BEGIN:VCALENDAR
VERSION:2.0
PRODID:-//ChamberMaster//Event Calendar 2.0//EN
METHOD:PUBLISH
X-PUBLISHED-TTL:P3D
REFRESH-INTERVAL:P3D
CALSCALE:GREGORIAN
BEGIN:VEVENT
DTSTART;VALUE=DATE:20210305
DTEND;VALUE=DATE:20210328
TRANSP:TRANSPARENT
X-MICROSOFT-CDO-ALLDAYEVENT:TRUE
SUMMARY:The 17th Annual Bryn Du Art Show
DESCRIPTION:The 17th Annual Bryn Du Art Show will be held from March 5 - 27\, 2021. This event is free\, open to the public and family-friendly. Masks and social distancing are required and only 10 visitors will be allowed into the Art Show at a time. At-risk individuals are welcome to contact us for private viewing appointments. See https://www.bryndu.com/bryn-du-art-show for more info.\n\n\n\nHours for the show this year:\n\nSaturdays 10-5\n\nSundays 12-4\n\nMondays CLOSED\n\nTuesdays 10-2\n\nWednesdays 10-2\n\nThursdays 4-8\n\nFridays 10-2
X-ALT-DESC;FMTTYPE=text/html:<span style="color:#4472C4">The 17th Annual Bryn Du Art Show will be held from March 5&nbsp\;- 27\, 2021. This event is free\, open to the public and family-friendly. Masks and social distancing are required and only 10 visitors will be allowed into the Art Show at a time. At-risk individuals are welcome to&nbsp\;contact us for private viewing appointments. See&nbsp\;</span>https://www.bryndu.com/bryn-du-art-show&nbsp\;for more info.<br />\n<br />\n<span style="color:#4472C4">Hours for the show this year:<br />\nSaturdays 10-5</span><br />\n<span style="color:#70AD47">Sundays</span> <span style="color:#70AD47">12-4</span><br />\n<span style="color:red">Mondays CLOSED</span><br />\n<span style="color:#7030A0">Tuesdays 10-2</span><br />\n<span style="color:#7030A0">Wednesdays 10-2</span><br />\n<span style="color:#BF9000">Thursdays 4-8</span><br />\n<span style="color:#7030A0">Fridays 10-2</span>
LOCATION:Bryn Du Mansion
UID:e.180.14723
SEQUENCE:3
DTSTAMP:20260421T231242Z
URL:https://business.granvilleoh.com/events/details/the-17th-annual-bryn-du-art-show-14723
END:VEVENT

END:VCALENDAR
