BEGIN:VCALENDAR
VERSION:2.0
PRODID:-//ChamberMaster//Event Calendar 2.0//EN
METHOD:PUBLISH
X-PUBLISHED-TTL:P3D
REFRESH-INTERVAL:P3D
CALSCALE:GREGORIAN
BEGIN:VEVENT
DTSTART:20210212T003000Z
DTEND:20210212T013000Z
X-MICROSOFT-CDO-ALLDAYEVENT:FALSE
SUMMARY:The Beck Series Spring 2021: Alison Stine
DESCRIPTION:Denison University's Beck Series presents the Spring 2021 schedule for the virtual reading series of Denison University\, highlighting the best in fiction\, poetry and journalism at 7:30 p.m. on Thursdays this spring.\nDenison University's Beck Series welcomes novelist\, journalist and poet Alison Stine '00. Stine works as a freelance journalist at The New York Times. Her first novel\, "Road Out of Winter\," was published in 2020. She is also the author of several books of short fiction and poetry\, including "Ohio Violence." Her work has appeared in The Atlantic\, The Paris Review\, The Washington Post\, and others. Recipient of grants from the NEA\, the Ohio Arts Council\, NYU Journalism\, and National Geographic\, she is a former Wallace Stegner Fellow at Stanford University. Her next novel "Trashlands" will be published in October 2021.
X-ALT-DESC;FMTTYPE=text/html:<span style="font-size:14px"><span style="font-family:arial\,helvetica\,sans-serif"><span style="color:rgb(0\, 0\, 0)">Denison University&#39\;s Beck Series presents the Spring 2021 schedule for the virtual reading series of Denison University\, highlighting the best in fiction\, poetry and journalism at 7:30 p.m. on Thursdays this spring.</span></span></span>\n<p><span style="font-size:14px"><span style="font-family:arial\,helvetica\,sans-serif">Denison University&#39\;s Beck Series welcomes&nbsp\;novelist\, journalist and poet Alison Stine &rsquo\;00.&nbsp\;<span style="background-color:transparent">Stine works as a freelance journalist at The New York Times. Her first novel\, &quot\;Road Out of Winter\,&quot\; was published in 2020. She is also the author of several books of short fiction and poetry\, including &quot\;Ohio Violence.&quot\; Her work has appeared in The Atlantic\, The Paris Review\, The Washington Post\, and others. Recipient of grants from the NEA\, the Ohio Arts Council\, NYU Journalism\, and National Geographic\, she is a former Wallace Stegner Fellow at Stanford University. Her next novel &quot\;Trashlands&quot\; will be published in October 2021.</span></span></span></p>\n
LOCATION:Virtual
UID:e.180.14741
SEQUENCE:3
DTSTAMP:20260422T004238Z
URL:https://business.granvilleoh.com/events/details/the-beck-series-spring-2021-alison-stine-14741
END:VEVENT

END:VCALENDAR
