BEGIN:VCALENDAR
VERSION:2.0
PRODID:-//ChamberMaster//Event Calendar 2.0//EN
METHOD:PUBLISH
X-PUBLISHED-TTL:P3D
REFRESH-INTERVAL:P3D
CALSCALE:GREGORIAN
BEGIN:VEVENT
DTSTART:20210408T233000Z
DTEND:20210409T003000Z
X-MICROSOFT-CDO-ALLDAYEVENT:FALSE
SUMMARY:The Beck Series Spring 2021: Kim Blaeser
DESCRIPTION:Denison University's Beck Series presents the Spring 2021 schedule for the virtual reading series of Denison University\, highlighting the best in fiction\, poetry and journalism at 7:30 p.m. on Thursdays this spring.\nDenison University's Beck Series welcomes poet Kim Blaeser. Blaeser\, Wisconsin Poet Laureate 2015-2016\, is the author of five poetry collections including "Copper Yearning\," "Apprenticed to Justice\," and the bi-lingual "R sister en dansant/Ikwe-niimi: Dancing Resistance." An Indigenous activist and environmentalist from White Earth Reservation\, she also edited "Traces in Blood\, Bone\, and Stone: Contemporary Ojibwe Poetry." A Professor at University of Wisconsin Milwaukee and Master of Fine Art faculty for the Institute of American Indian Arts in Santa Fe\, in 2020 Blaeser founded the literary organization In-Na-Po Indigenous Nations Poets. She lives in rural Wisconsin\; and\, for portions of each year\, in a water-access cabin near the Boundary Waters Canoe Area Wilderness in Minnesota.
X-ALT-DESC;FMTTYPE=text/html:<span style="font-size:14px"><span style="font-family:arial\,helvetica\,sans-serif"><span style="color:rgb(0\, 0\, 0)">Denison University&#39\;s Beck Series presents the Spring 2021 schedule for the virtual reading series of Denison University\, highlighting the best in fiction\, poetry and journalism at 7:30 p.m. on Thursdays this spring.</span></span></span>\n<p><span style="font-size:14px"><span style="font-family:arial\,helvetica\,sans-serif">Denison University&#39\;s Beck Series welcomes poet </span></span><span style="color:rgb(0\, 0\, 0)\; font-family:arial\; font-size:11pt">Kim Blaeser.</span><span style="color:rgb(0\, 0\, 0)\; font-size:14px">&nbsp\;</span><span style="font-size:11pt">Blaeser\, Wisconsin Poet Laureate 2015-2016\, is the author of five poetry collections including &ldquo\;Copper Yearning\,&rdquo\; &ldquo\;Apprenticed to Justice\,&rdquo\; and the bi-lingual &ldquo\;R&eacute\;sister en dansant/Ikwe-niimi: Dancing Resistance.&rdquo\; An Indigenous activist and environmentalist from White Earth Reservation\, she also edited &ldquo\;Traces in Blood\, Bone\, and Stone: Contemporary Ojibwe Poetry.&rdquo\; A Professor at University of Wisconsin&ndash\;Milwaukee and Master of Fine Art faculty for the Institute of American Indian Arts in Santa Fe\, in 2020 Blaeser founded the literary organization In-Na-Po&mdash\;Indigenous Nations Poets. She lives in rural Wisconsin\; and\, for portions of each year\, in a water-access cabin near the Boundary Waters Canoe Area Wilderness in Minnesota.</span></p>\n
LOCATION:Virtual
UID:e.180.14743
SEQUENCE:3
DTSTAMP:20260421T204056Z
URL:https://business.granvilleoh.com/events/details/the-beck-series-spring-2021-kim-blaeser-14743
END:VEVENT

END:VCALENDAR
