BEGIN:VCALENDAR
VERSION:2.0
PRODID:-//ChamberMaster//Event Calendar 2.0//EN
METHOD:PUBLISH
X-PUBLISHED-TTL:P3D
REFRESH-INTERVAL:P3D
CALSCALE:GREGORIAN
BEGIN:VEVENT
DTSTART:20200923T000000Z
DTEND:20200923T010000Z
X-MICROSOFT-CDO-ALLDAYEVENT:FALSE
SUMMARY:The Blackballed Lecture
DESCRIPTION:Denison University welcomes Lawrence Ross presenting the Blackballed Lecture\, the black and white politics of race on America's campuses.\n\nRoss has written seven books\, and has lectured at over 700 colleges and universities. He received a Bachelor of Arts in History from UCLA\, and a Master of Fine Arts in screenwriting from the UCLA School of Theater\, Film\, and Television.\n\nRegister to receive the zoom link.\n\nThis event is co-sponsorship by CLIC\, Fraternity/Sorority life\, and MCSA.
X-ALT-DESC;FMTTYPE=text/html:<div>\n<div>\n<div>\n<div>\n<div>\n<div>\n<div>\n<div>\n<p>Denison University welcomes Lawrence Ross presenting the&nbsp\;Blackballed Lecture\, the black and white politics of race on America&rsquo\;s campuses.</p>\n\n<p>Ross has written seven books\, and has lectured at over 700 colleges and universities. He received a Bachelor of Arts in History from UCLA\, and&nbsp\;a Master of Fine Arts in screenwriting from the UCLA School of Theater\, Film\, and Television.</p>\n\n<p>Register to receive the zoom link.</p>\n\n<p>This event is co-sponsorship by CLIC\, Fraternity/Sorority life\, and MCSA.</p>\n\n<div>&nbsp\;</div>\n</div>\n</div>\n</div>\n</div>\n</div>\n</div>\n</div>\n</div>\n
LOCATION:Virtual
UID:e.180.14630
SEQUENCE:3
DTSTAMP:20260422T060007Z
URL:https://business.granvilleoh.com/events/details/the-blackballed-lecture-14630
END:VEVENT

END:VCALENDAR
