BEGIN:VCALENDAR
VERSION:2.0
PRODID:-//ChamberMaster//Event Calendar 2.0//EN
METHOD:PUBLISH
X-PUBLISHED-TTL:P3D
REFRESH-INTERVAL:P3D
CALSCALE:GREGORIAN
BEGIN:VEVENT
DTSTART:20201120T000000Z
DTEND:20201120T010000Z
X-MICROSOFT-CDO-ALLDAYEVENT:FALSE
SUMMARY:The Books and the Bees Book Club
DESCRIPTION:Love nature? Join Licking Park District and GPL for the Books & the Bees! This month we are reading Tree Story: The History of the World Written in Rings by Valerie Trouet. Delve into the science of tree rings and gain insight into popular science and cultural history. Trouet takes you from radioactive forests in Russia to remote African villages and many places in between. Copies are available at our main desk or reserve a copy by emailing wbittel@granvillelibrary.org. Registration required. You will receive a Zoom link about an hour before the start of the program. Register at GranvilleLibrary.org/calendar/month
X-ALT-DESC;FMTTYPE=text/html:Love nature? Join Licking Park District and GPL for the Books &amp\; the Bees! This month we are reading Tree Story: The History of the World Written in Rings by Valerie Trouet. Delve into the science of tree rings and gain insight into popular science and cultural history. Trouet takes you from radioactive forests in Russia to remote African villages and many places in between. Copies are available at our main desk or reserve a copy by emailing wbittel@granvillelibrary.org. Registration required. You will receive a Zoom link about an hour before the start of the program. Register at GranvilleLibrary.org/calendar/month
LOCATION:Granville Public Library and Licking Park District via Zoom
UID:e.180.14674
SEQUENCE:3
DTSTAMP:20260422T045856Z
URL:https://business.granvilleoh.com/events/details/the-books-and-the-bees-book-club-11-19-2020-14674
END:VEVENT

END:VCALENDAR
