BEGIN:VCALENDAR
VERSION:2.0
PRODID:-//ChamberMaster//Event Calendar 2.0//EN
METHOD:PUBLISH
X-PUBLISHED-TTL:P3D
REFRESH-INTERVAL:P3D
CALSCALE:GREGORIAN
BEGIN:VEVENT
DTSTART:20201028T230000Z
DTEND:20201029T000000Z
X-MICROSOFT-CDO-ALLDAYEVENT:FALSE
SUMMARY:The Books and the Bees Book Club
DESCRIPTION:Join the Licking Park District and GPL via Zoom to discuss "The Nature Fix: Why Nature Makes Us Happier\, Healthier\, and More Creative" by Florence Williams. Stop by our main desk to pick up a copy or reserve the book by emailing wbittel@granvillelibrary.org.
X-ALT-DESC;FMTTYPE=text/html:Join the Licking Park District and GPL via Zoom to discuss &quot\;The Nature Fix: Why Nature Makes Us Happier\, Healthier\, and More Creative&quot\; by Florence Williams. Stop by our main desk to pick up a copy or reserve the book by emailing wbittel@granvillelibrary.org.
LOCATION:Granville Public Library via Zoom
UID:e.180.14645
SEQUENCE:3
DTSTAMP:20260422T044957Z
URL:https://business.granvilleoh.com/events/details/the-books-and-the-bees-book-club-14645
END:VEVENT

END:VCALENDAR
