BEGIN:VCALENDAR
VERSION:2.0
PRODID:-//ChamberMaster//Event Calendar 2.0//EN
METHOD:PUBLISH
X-PUBLISHED-TTL:P3D
REFRESH-INTERVAL:P3D
CALSCALE:GREGORIAN
BEGIN:VEVENT
DTSTART:20210114T000000Z
DTEND:20210114T010000Z
X-MICROSOFT-CDO-ALLDAYEVENT:FALSE
SUMMARY:The Books & the Bees Book Club
DESCRIPTION:Are you interested in nature? Then join the Licking Park District and GPL for this book club! In January\, we are reading "Wildwood: The Epic Journey from Adolescence to Adulthood in Humans and Other Animals by Barbara Natterson Horowitz & Kathryn Bowers. Get a look at how all adolescents on the planet reach adulthood including "the four universal challenges- how to be safe\, how to navigate hierarchy\, how to court potential mates\, and how to leave the nest". Call the library at 740-587-0196 to reserve a copy of the book\, stop by the main desk\, or email wbittel@granvillelibrary.org. Register at GranvilleLibrary.org/calendar/month. To hear a talk with Barbara Natterson Horowitz discussing this title and the research behind it\, visit our YouTube Channel's The Books & the Bees playlist. https://www.youtube.com/.../UClBMdlwQcVynW77OCr.../playlists
X-ALT-DESC;FMTTYPE=text/html:Are you interested in nature? Then join the Licking Park District and GPL for this book club! In January\, we are reading &quot\;Wildwood: The Epic Journey from Adolescence to Adulthood in Humans and Other Animals by Barbara Natterson Horowitz &amp\; Kathryn Bowers. Get a look at how all adolescents on the planet reach adulthood including &quot\;the four universal challenges- how to be safe\, how to navigate hierarchy\, how to court potential mates\, and how to leave the nest&quot\;. Call the library at 740-587-0196 to reserve a copy of the book\, stop by the main desk\, or email wbittel@granvillelibrary.org. Register at GranvilleLibrary.org/calendar/month. To hear a talk with Barbara Natterson Horowitz discussing this title and the research behind it\, visit our YouTube Channel&#39\;s The Books &amp\; the Bees playlist. https://www.youtube.com/.../UClBMdlwQcVynW77OCr.../playlists
LOCATION:Granville Public Library via Zoom
UID:e.180.14705
SEQUENCE:3
DTSTAMP:20260422T005900Z
URL:https://business.granvilleoh.com/events/details/the-books-the-bees-book-club-01-13-2021-14705
END:VEVENT

END:VCALENDAR
