BEGIN:VCALENDAR
VERSION:2.0
PRODID:-//ChamberMaster//Event Calendar 2.0//EN
METHOD:PUBLISH
X-PUBLISHED-TTL:P3D
REFRESH-INTERVAL:P3D
CALSCALE:GREGORIAN
BEGIN:VEVENT
DTSTART:20210211T000000Z
DTEND:20210211T010000Z
X-MICROSOFT-CDO-ALLDAYEVENT:FALSE
SUMMARY:The Books & the Bees Book Club
DESCRIPTION:Love nature? Join Licking Park District and GPL for the Books & the Bees Book Club. For February\, we are reading "Fathoms: The World in the Whale" by Rebecca Griggs\, a poetic book that covers whales\, the whaling industry and reflects on what larger lessons we can take from the experiences of the largest mammal on the planet. Reserve on by emailing wbittel@granvillelibrary.org or calling 740-587-0196. Register at GranvilleLibrary.org
X-ALT-DESC;FMTTYPE=text/html:Love nature? Join Licking Park District and GPL for the Books &amp\; the Bees Book Club. For February\, we are reading &quot\;Fathoms: The World in the Whale&quot\; by Rebecca Griggs\, a poetic book that covers whales\, the whaling industry and reflects on what larger lessons we can take from the experiences of the largest mammal on the planet. Reserve on by emailing wbittel@granvillelibrary.org or calling 740-587-0196. Register at GranvilleLibrary.org
LOCATION:Granville Public Library via Zoom
UID:e.180.14726
SEQUENCE:3
DTSTAMP:20260421T233412Z
URL:https://business.granvilleoh.com/events/details/the-books-the-bees-book-club-02-10-2021-14726
END:VEVENT

END:VCALENDAR
