BEGIN:VCALENDAR
VERSION:2.0
PRODID:-//ChamberMaster//Event Calendar 2.0//EN
METHOD:PUBLISH
X-PUBLISHED-TTL:P3D
REFRESH-INTERVAL:P3D
CALSCALE:GREGORIAN
BEGIN:VEVENT
DTSTART:20210311T000000Z
DTEND:20210311T010000Z
X-MICROSOFT-CDO-ALLDAYEVENT:FALSE
SUMMARY:The Books & the Bees Book Club
DESCRIPTION:Love nature? Join the Licking Park District and the Granville Public Library for the Books & the Bees! In March we are reading David Attenborough's "A Life on Our Planet: My Witness Statement and a Vision for the Future". In this book\, Attenborough shares observations from his 93 years on this planet and his view of humanity's impact. Reserve a copy of the book for pick-up by calling the library at 740-587-0196. This title is also available as an audiobook on Libby. Register at GranvilleLibrary.org/calendar/month
X-ALT-DESC;FMTTYPE=text/html:Love nature? Join the Licking Park District and the Granville Public Library for the Books &amp\; the Bees! In March we are reading David Attenborough&#39\;s &quot\;A Life on Our Planet: My Witness Statement and a Vision for the Future&quot\;. In this book\, Attenborough shares observations from his 93 years on this planet and his view of humanity&#39\;s impact. Reserve a copy of the book for pick-up by calling the library at 740-587-0196. This title is also available as an audiobook on Libby. Register at GranvilleLibrary.org/calendar/month
LOCATION:Granville Public Library via Zoom
UID:e.180.14752
SEQUENCE:3
DTSTAMP:20260421T221201Z
URL:https://business.granvilleoh.com/events/details/the-books-the-bees-book-club-03-10-2021-14752
END:VEVENT

END:VCALENDAR
