BEGIN:VCALENDAR
VERSION:2.0
PRODID:-//ChamberMaster//Event Calendar 2.0//EN
METHOD:PUBLISH
X-PUBLISHED-TTL:P3D
REFRESH-INTERVAL:P3D
CALSCALE:GREGORIAN
BEGIN:VEVENT
DTSTART:20200827T230000Z
DTEND:20200828T000000Z
X-MICROSOFT-CDO-ALLDAYEVENT:FALSE
SUMMARY:The Books & the Bees Book Club
DESCRIPTION:Join GPL and the Licking Park District to discuss "The Rise of Wolf 8: Witnessing the Triumph of Yellowstone's Underdog" by Rick McIntyre. Follow the story of the wolves reintroduced to Yellowstone through Wolf 8's struggle to survive and thrive. To reserve a copy of the book\, please email wbittel@granvillelibrary.org. The title is also available on Hoopla. Our discussion will take place via zoom. Register at GranvilleLibrary.org/calendar/month to receive a link to the meeting the day of the program.
X-ALT-DESC;FMTTYPE=text/html:Join GPL and the Licking Park District to discuss &quot\;The Rise of Wolf 8: Witnessing the Triumph of Yellowstone&#39\;s Underdog&quot\; by Rick McIntyre. Follow the story of the wolves reintroduced to Yellowstone through Wolf 8&#39\;s struggle to survive and thrive. To reserve a copy of the book\, please email wbittel@granvillelibrary.org. The title is also available on Hoopla. Our discussion will take place via zoom. Register at GranvilleLibrary.org/calendar/month to receive a link to the meeting the day of the program.
LOCATION:Granville Public Library in partnership with Licking Park District
UID:e.180.14569
SEQUENCE:3
DTSTAMP:20260422T072716Z
URL:https://business.granvilleoh.com/events/details/the-books-the-bees-book-club-08-27-2020-14569
END:VEVENT

END:VCALENDAR
