BEGIN:VCALENDAR
VERSION:2.0
PRODID:-//ChamberMaster//Event Calendar 2.0//EN
METHOD:PUBLISH
X-PUBLISHED-TTL:P3D
REFRESH-INTERVAL:P3D
CALSCALE:GREGORIAN
BEGIN:VEVENT
DTSTART:20200924T230000Z
DTEND:20200925T000000Z
X-MICROSOFT-CDO-ALLDAYEVENT:FALSE
SUMMARY:The Books & the Bees Book Club
DESCRIPTION:We're reading "How to Be a Conscious Eater: Making Food Choices that are Good For You\, for Others\, and for the Planet" by Sophie Egan this month.  Join the Licking Park District and the Granville Public Library for discussion!   To reserve a copy of the book\, email wbittel@granvillelibrary.org.
X-ALT-DESC;FMTTYPE=text/html:We're reading "How to Be a Conscious Eater: Making Food Choices that are Good For You\, for Others\, and for the Planet" by Sophie Egan this month.  Join the Licking Park District and the Granville Public Library for discussion!   To reserve a copy of the book\, email wbittel@granvillelibrary.org. 
LOCATION:Granville Public Library via Zoom
UID:e.180.14594
SEQUENCE:3
DTSTAMP:20260422T060443Z
URL:https://business.granvilleoh.com/events/details/the-books-the-bees-book-club-09-24-2020-14594
END:VEVENT

END:VCALENDAR
