BEGIN:VCALENDAR
VERSION:2.0
PRODID:-//ChamberMaster//Event Calendar 2.0//EN
METHOD:PUBLISH
X-PUBLISHED-TTL:P3D
REFRESH-INTERVAL:P3D
CALSCALE:GREGORIAN
BEGIN:VEVENT
DTSTART:20200625T230000Z
DTEND:20200626T000000Z
X-MICROSOFT-CDO-ALLDAYEVENT:FALSE
SUMMARY:The Books & the Bees Book Club
DESCRIPTION:This month we'll take a look at "Eyes Wide Open: Going Behind the Environmental Headlines" by Paul Fleischman. It's available on Hoopla and Libby for download. Join GPL and the Licking Park District for this nature lovers book club!
X-ALT-DESC;FMTTYPE=text/html:This month we&#39\;ll take a look at &quot\;Eyes Wide Open: Going Behind the Environmental Headlines&quot\; by Paul Fleischman. It&#39\;s available on Hoopla and Libby for download. Join GPL and the Licking Park District for this nature lovers book club!
LOCATION:Granville Public Library
UID:e.180.14543
SEQUENCE:3
DTSTAMP:20260422T102410Z
URL:https://business.granvilleoh.com/events/details/the-books-the-bees-book-club-14543
END:VEVENT

END:VCALENDAR
