BEGIN:VCALENDAR
VERSION:2.0
PRODID:-//ChamberMaster//Event Calendar 2.0//EN
METHOD:PUBLISH
X-PUBLISHED-TTL:P3D
REFRESH-INTERVAL:P3D
CALSCALE:GREGORIAN
BEGIN:VEVENT
DTSTART:20210714T230000Z
DTEND:20210715T000000Z
X-MICROSOFT-CDO-ALLDAYEVENT:FALSE
SUMMARY:The Books & the Bees Book Club: The Nature of Oaks
DESCRIPTION:Join the Licking Park District and GPL to discuss The Nature of Oaks: The Rich Ecology of our Most Essential Tree by Douglas Tallamy. Discover the impact that this one tree species has on the surrounding environment throughout the year. We will meet at Shelter House #4 at Infirmary Mound Park. Register at GranvilleLibrary.org/calendar/month Pick up a copy of this title at our main desk. It is also available on Hoopla.
X-ALT-DESC;FMTTYPE=text/html:Join the Licking Park District and GPL to discuss The Nature of Oaks: The Rich Ecology of our Most Essential Tree by Douglas Tallamy. Discover the impact that this one tree species has on the surrounding environment throughout the year. We will meet at Shelter House #4 at Infirmary Mound Park. Register at GranvilleLibrary.org/calendar/month Pick up a copy of this title at our main desk. It is also available on Hoopla.
LOCATION:Infirmary Mound Park Shelter House # 4
UID:e.180.14816
SEQUENCE:3
DTSTAMP:20260421T163643Z
URL:https://business.granvilleoh.com/events/details/the-books-the-bees-book-club-the-nature-of-oaks-14816
END:VEVENT

END:VCALENDAR
