BEGIN:VCALENDAR
VERSION:2.0
PRODID:-//ChamberMaster//Event Calendar 2.0//EN
METHOD:PUBLISH
X-PUBLISHED-TTL:P3D
REFRESH-INTERVAL:P3D
CALSCALE:GREGORIAN
BEGIN:VEVENT
DTSTART:20201210T000000Z
DTEND:20201210T010000Z
X-MICROSOFT-CDO-ALLDAYEVENT:FALSE
SUMMARY:The Books & the Bees Book Club (Zoom)
DESCRIPTION:Join Licking Park District and GPL to discuss Hope Jahren's new book "The Story of More: How We Got to Climate Change and Where Do We Go From Here". Jahren looks at our history of advancements and describes their impact on our environment. Her book also looks at how "we can use less and share more". Copies are available at our main desk or you can reserve one by emailing wbittel@granvillelibrary.org. The book is also available to download through Libby. Registration required. You will be emailed a Zoom link about an hour before the start of the program. Register at GranvilleLibrary.org/calendar/month
X-ALT-DESC;FMTTYPE=text/html:Join Licking Park District and GPL to discuss Hope Jahren&#39\;s new book &quot\;The Story of More: How We Got to Climate Change and Where Do We Go From Here&quot\;. Jahren looks at our history of advancements and describes their impact on our environment. Her book also looks at how &quot\;we can use less and share more&quot\;. Copies are available at our main desk or you can reserve one by emailing wbittel@granvillelibrary.org. The book is also available to download through Libby. Registration required. You will be emailed a Zoom link about an hour before the start of the program. Register at GranvilleLibrary.org/calendar/month
LOCATION:Granville Public Library via Zoom
UID:e.180.14685
SEQUENCE:3
DTSTAMP:20260422T020553Z
URL:https://business.granvilleoh.com/events/details/the-books-the-bees-book-club-zoom-14685
END:VEVENT

END:VCALENDAR
