BEGIN:VCALENDAR
VERSION:2.0
PRODID:-//ChamberMaster//Event Calendar 2.0//EN
METHOD:PUBLISH
X-PUBLISHED-TTL:P3D
REFRESH-INTERVAL:P3D
CALSCALE:GREGORIAN
BEGIN:VEVENT
DTSTART:20200629T170000Z
DTEND:20200629T173000Z
X-MICROSOFT-CDO-ALLDAYEVENT:FALSE
SUMMARY:The Clyde the Coyote Show-
DESCRIPTION:Clyde the Coyote (who is NOT a puppet) interviews fascinating people and puppets. This week\, Clyde talks to Joey Weiser\, Eisner Award-nominated author of Ghost Hog and the Mermin graphic novel series and James Bird\, middle grade author. All Ages. Instagram Live - @gpl_kids
X-ALT-DESC;FMTTYPE=text/html:Clyde the Coyote (who is NOT a puppet) interviews fascinating people and puppets. This week\, Clyde talks to Joey Weiser\, Eisner Award-nominated author of Ghost Hog and the Mermin graphic novel series and James Bird\, middle grade author. All Ages. Instagram Live - @gpl_kids
LOCATION:Granville Public Library via Instagram Live
UID:e.180.14551
SEQUENCE:3
DTSTAMP:20260422T102338Z
URL:https://business.granvilleoh.com/events/details/the-clyde-the-coyote-show-06-29-2020-14551
END:VEVENT

END:VCALENDAR
