BEGIN:VCALENDAR
VERSION:2.0
PRODID:-//ChamberMaster//Event Calendar 2.0//EN
METHOD:PUBLISH
X-PUBLISHED-TTL:P3D
REFRESH-INTERVAL:P3D
CALSCALE:GREGORIAN
BEGIN:VEVENT
DTSTART:20200921T200000Z
DTEND:20200921T203000Z
X-MICROSOFT-CDO-ALLDAYEVENT:FALSE
SUMMARY:The Clyde-the-Coyote Show
DESCRIPTION:Clyde the Coyote (who is NOT a puppet) interviews fascinating people and puppets on Instagram Live - @gpl_kids. \n\nThis week Clyde will be interviewing "Horace and Bunwinkle" author\, P.J. Gardner.
X-ALT-DESC;FMTTYPE=text/html:Clyde the Coyote (who is NOT a puppet) interviews fascinating people and puppets on Instagram Live - @gpl_kids. \n\nThis week Clyde will be interviewing "Horace and Bunwinkle" author\, P.J. Gardner.
LOCATION:Granville Public Library via Instagram @GPL_Kids
UID:e.180.14611
SEQUENCE:3
DTSTAMP:20260422T060315Z
URL:https://business.granvilleoh.com/events/details/the-clyde-the-coyote-show-09-21-2020-14611
END:VEVENT

END:VCALENDAR
