BEGIN:VCALENDAR
VERSION:2.0
PRODID:-//ChamberMaster//Event Calendar 2.0//EN
METHOD:PUBLISH
X-PUBLISHED-TTL:P3D
REFRESH-INTERVAL:P3D
CALSCALE:GREGORIAN
BEGIN:VEVENT
DTSTART:20200615T170000Z
DTEND:20200615T173000Z
X-MICROSOFT-CDO-ALLDAYEVENT:FALSE
SUMMARY:The Clyde the Coyote Show
DESCRIPTION:Clyde the Coyote (who is NOT a puppet) interviews fascinating people and puppets. All Ages Instagram Live   @gpl_kids
X-ALT-DESC;FMTTYPE=text/html:Clyde the Coyote (who is NOT a puppet) interviews fascinating people and puppets. All Ages Instagram Live &mdash\; @gpl_kids
LOCATION:Granville Public Library's Children's Dept. Instagram GPL_Kids
UID:e.180.14524
SEQUENCE:3
DTSTAMP:20260422T114135Z
URL:https://business.granvilleoh.com/events/details/the-clyde-the-coyote-show-14524
END:VEVENT

END:VCALENDAR
