BEGIN:VCALENDAR
VERSION:2.0
PRODID:-//ChamberMaster//Event Calendar 2.0//EN
METHOD:PUBLISH
X-PUBLISHED-TTL:P3D
REFRESH-INTERVAL:P3D
CALSCALE:GREGORIAN
BEGIN:VEVENT
DTSTART:20200706T170000Z
DTEND:20200706T173000Z
X-MICROSOFT-CDO-ALLDAYEVENT:FALSE
SUMMARY:The Clyde the Coyote Show: Instagram Live
DESCRIPTION:Clyde the Coyote (who is NOT a puppet) interviews fascinating people and puppets.  This week he'll be interviewing Gus from Madcap Puppets and children's author\, Dori Hillestad Butler.\n\nAll Ages\nInstagram Live ? @gpl_kids
X-ALT-DESC;FMTTYPE=text/html:\nClyde the Coyote (who is NOT a puppet) interviews fascinating people and puppets.  This week he'll be interviewing Gus from Madcap Puppets and children's author\, Dori Hillestad Butler.\n\nAll Ages\nInstagram Live ? @gpl_kids
LOCATION:Granville Public Library
UID:e.180.14562
SEQUENCE:3
DTSTAMP:20260422T091414Z
URL:https://business.granvilleoh.com/events/details/the-clyde-the-coyote-show-instagram-live-07-06-2020-14562
END:VEVENT

END:VCALENDAR
