BEGIN:VCALENDAR
VERSION:2.0
PRODID:-//ChamberMaster//Event Calendar 2.0//EN
METHOD:PUBLISH
X-PUBLISHED-TTL:P3D
REFRESH-INTERVAL:P3D
CALSCALE:GREGORIAN
BEGIN:VEVENT
DTSTART:20200601T170000Z
DTEND:20200601T173000Z
X-MICROSOFT-CDO-ALLDAYEVENT:FALSE
SUMMARY:The Clyde-the-Coyote Show: Instagram Live
DESCRIPTION:Clyde the Coyote (who is NOT a puppet) interviews fascinating people and puppets. All Ages Instagram Live   @gpl_kids Repeats weekly through July 20th.
X-ALT-DESC;FMTTYPE=text/html:Clyde the Coyote (who is NOT a puppet) interviews fascinating people and puppets. All Ages Instagram Live &mdash\; @gpl_kids Repeats weekly through July 20th.
LOCATION:Granville Public Library via Instagram @GPL_Kids
UID:e.180.14498
SEQUENCE:3
DTSTAMP:20260422T114323Z
URL:https://business.granvilleoh.com/events/details/the-clyde-the-coyote-show-instagram-live-14498
END:VEVENT

END:VCALENDAR
