BEGIN:VCALENDAR
VERSION:2.0
PRODID:-//ChamberMaster//Event Calendar 2.0//EN
METHOD:PUBLISH
X-PUBLISHED-TTL:P3D
REFRESH-INTERVAL:P3D
CALSCALE:GREGORIAN
BEGIN:VEVENT
DTSTART:20211114T010000Z
DTEND:20211114T023000Z
X-MICROSOFT-CDO-ALLDAYEVENT:FALSE
SUMMARY:The Department of Theatre presents 'Take Five by David Ives'
DESCRIPTION:"Take Five" is not just an iconic jazz composition\, it's also a collection of five short comedies by David Ives. In "Words\, Words\, Words\," Milton\, Swift\, and Kafka participate in their captor's experiment\; but will the three chimps produce art? "English Made Simple" plays with\, and contests\, meaning. In "The Universal Language\," Dawn risks everything to try a compelling vernacular that isn't Esperanto. "Time Flies" awakens two Mayflies on a date to their existential imperatives. Finally\, Ed decides to imagine la vie en rose by pretending he's a French impressionist in "Degas\, C'est Moi."\n\n\n\nIn addition to the Denison community\, we are currently able to welcome vaccinated family members of Denison students\, faculty\, and staff and a limited number of vaccinated community members. You will be required to submit either your Denison D# or share your proof of vaccination when ordering your ticket. Masks are required.  \n\n\n\nPerformances Dates and Time as follows:
X-ALT-DESC;FMTTYPE=text/html:<span style="color:rgb(34\, 34\, 34)\; font-family:arial\,helvetica\,sans-serif\; font-size:small">&ldquo\;Take Five&rdquo\; is not just an iconic jazz composition\, it&rsquo\;s also a collection of five short comedies by David Ives. In &ldquo\;Words\, Words\, Words\,&rdquo\; Milton\, Swift\, and Kafka participate in their captor&rsquo\;s experiment\; but will the three chimps produce art? &ldquo\;English Made Simple&rdquo\; plays with\, and contests\, meaning. In &ldquo\;The Universal Language\,&rdquo\; Dawn risks everything to try a compelling vernacular that isn&rsquo\;t Esperanto. &ldquo\;Time Flies&rdquo\; awakens two Mayflies on a date to their existential imperatives. Finally\, Ed decides to imagine la vie en rose by pretending he&rsquo\;s a French impressionist in &ldquo\;Degas\, C&rsquo\;est Moi.&rdquo\;</span><br />\n<br />\n<span style="color:rgb(34\, 34\, 34)\; font-family:arial\,helvetica\,sans-serif\; font-size:small">In addition to the Denison community\, we are currently able to welcome vaccinated family members of Denison students\, faculty\, and staff and a limited number of vaccinated community members. You will be required to submit either your Denison D# or share your proof of vaccination when ordering your ticket. Masks are required. &nbsp\;</span><br />\n<br />\n<span style="color:rgb(34\, 34\, 34)\; font-family:arial\,helvetica\,sans-serif\; font-size:small">Performances Dates and Time as follows:</span><br />\n<br />\n&nbsp\;
LOCATION:Michael D. Eisner Center for the Performing Arts - Hylbert Family Studio 240 W Broadway
UID:e.180.16122
SEQUENCE:3
DTSTAMP:20260421T130057Z
URL:https://business.granvilleoh.com/events/details/the-department-of-theatre-presents-take-five-by-david-ives-11-13-2021-16122
END:VEVENT

END:VCALENDAR
